BEGIN:VCALENDAR
VERSION:2.0
PRODID:-//Egerton United Reformed Church - ECPv6.15.20//NONSGML v1.0//EN
CALSCALE:GREGORIAN
METHOD:PUBLISH
X-ORIGINAL-URL:https://egertonurc.org.uk
X-WR-CALDESC:Events for Egerton United Reformed Church
REFRESH-INTERVAL;VALUE=DURATION:PT1H
X-Robots-Tag:noindex
X-PUBLISHED-TTL:PT1H
BEGIN:VTIMEZONE
TZID:Europe/London
BEGIN:DAYLIGHT
TZOFFSETFROM:+0000
TZOFFSETTO:+0100
TZNAME:BST
DTSTART:20240331T010000
END:DAYLIGHT
BEGIN:STANDARD
TZOFFSETFROM:+0100
TZOFFSETTO:+0000
TZNAME:GMT
DTSTART:20241027T010000
END:STANDARD
BEGIN:DAYLIGHT
TZOFFSETFROM:+0000
TZOFFSETTO:+0100
TZNAME:BST
DTSTART:20250330T010000
END:DAYLIGHT
BEGIN:STANDARD
TZOFFSETFROM:+0100
TZOFFSETTO:+0000
TZNAME:GMT
DTSTART:20251026T010000
END:STANDARD
BEGIN:DAYLIGHT
TZOFFSETFROM:+0000
TZOFFSETTO:+0100
TZNAME:BST
DTSTART:20260329T010000
END:DAYLIGHT
BEGIN:STANDARD
TZOFFSETFROM:+0100
TZOFFSETTO:+0000
TZNAME:GMT
DTSTART:20261025T010000
END:STANDARD
END:VTIMEZONE
BEGIN:VEVENT
DTSTART;TZID=Europe/London:20250701T190000
DTEND;TZID=Europe/London:20250701T203000
DTSTAMP:20260420T035432
CREATED:20250530T193800Z
LAST-MODIFIED:20250530T195302Z
UID:9187-1751396400-1751401800@egertonurc.org.uk
SUMMARY:Handbell Group
DESCRIPTION:Handbell Group meet Tuesday 1st July 7-8.30 pm
URL:https://egertonurc.org.uk/event/handbell-group-2/
LOCATION:Egerton URC\, Blackburn Road\, Egerton\, Bolton\, United Kingdom
END:VEVENT
BEGIN:VEVENT
DTSTART;TZID=Europe/London:20250708T190000
DTEND;TZID=Europe/London:20250708T203000
DTSTAMP:20260420T035432
CREATED:20250530T193920Z
LAST-MODIFIED:20250530T195234Z
UID:9189-1752001200-1752006600@egertonurc.org.uk
SUMMARY:Handbell Group
DESCRIPTION:Handbell Group meet Tuesday 8th July 7-8.30 pm \n 
URL:https://egertonurc.org.uk/event/handbell-group-3/
LOCATION:Egerton URC\, Blackburn Road\, Egerton\, Bolton\, United Kingdom
END:VEVENT
BEGIN:VEVENT
DTSTART;TZID=Europe/London:20250711T193000
DTEND;TZID=Europe/London:20250711T213000
DTSTAMP:20260420T035432
CREATED:20250520T094212Z
LAST-MODIFIED:20250520T094321Z
UID:9142-1752262200-1752269400@egertonurc.org.uk
SUMMARY:Britains Funniest Doctor
DESCRIPTION:*** SOLD OUT*** \nDr Kevin Jones\, ‘Britain’s funniest doctor’ at Egerton URC Friday 11th July at 7.30 PM \nProceeds in aid of Bolton Hospice & Bolton Pulmonary Fibrosis Support Group
URL:https://egertonurc.org.uk/event/britains-funniest-doctor-2/
LOCATION:Egerton URC\, Blackburn Road\, Egerton\, Bolton\, United Kingdom
END:VEVENT
BEGIN:VEVENT
DTSTART;TZID=Europe/London:20250712T120000
DTEND;TZID=Europe/London:20250712T180000
DTSTAMP:20260420T035432
CREATED:20250511T192356Z
LAST-MODIFIED:20250615T152931Z
UID:9128-1752321600-1752343200@egertonurc.org.uk
SUMMARY:Inter Church Crown Green Bowling Match
DESCRIPTION:Inter Church Crown Green Bowling match held at Egerton Park Saturday 12th July in the afternoon. Please come along & cheer Egerton on
URL:https://egertonurc.org.uk/event/crown-green-bowling-tournament/
LOCATION:Egerton Park
END:VEVENT
BEGIN:VEVENT
DTSTART;TZID=Europe/London:20250718T193000
DTEND;TZID=Europe/London:20250718T213000
DTSTAMP:20260420T035432
CREATED:20250520T094001Z
LAST-MODIFIED:20250520T094256Z
UID:9140-1752867000-1752874200@egertonurc.org.uk
SUMMARY:Britain’s funniest doctor
DESCRIPTION:*** SOLD OUT*** \nDr Kevin Jones\, ‘Britain’s funniest doctor’ at Egerton URC Friday 18th July at 7.30 PM \nProceeds in aid of Bolton Hospice & Bolton Pulmonary Fibrosis Support Group
URL:https://egertonurc.org.uk/event/britains-funniest-doctor/
LOCATION:Egerton URC\, Blackburn Road\, Egerton\, Bolton\, United Kingdom
END:VEVENT
BEGIN:VEVENT
DTSTART;TZID=Europe/London:20250722T190000
DTEND;TZID=Europe/London:20250722T203000
DTSTAMP:20260420T035432
CREATED:20250530T194224Z
LAST-MODIFIED:20250530T195200Z
UID:9193-1753210800-1753216200@egertonurc.org.uk
SUMMARY:Handbell Group
DESCRIPTION:Handbell Group meet Tuesday 22nd July 7-8.30pm
URL:https://egertonurc.org.uk/event/handbell-group-4/
LOCATION:Egerton URC\, Blackburn Road\, Egerton\, Bolton\, United Kingdom
END:VEVENT
BEGIN:VEVENT
DTSTART;TZID=Europe/London:20250729T190000
DTEND;TZID=Europe/London:20250729T203000
DTSTAMP:20260420T035432
CREATED:20250530T194333Z
LAST-MODIFIED:20250530T195116Z
UID:9195-1753815600-1753821000@egertonurc.org.uk
SUMMARY:Handbell Group
DESCRIPTION:Handbell Group meet Tuesday 29th July 7-8.30pm
URL:https://egertonurc.org.uk/event/handbell-group-5/
LOCATION:Egerton URC\, Blackburn Road\, Egerton\, Bolton\, United Kingdom
END:VEVENT
END:VCALENDAR