BEGIN:VCALENDAR
VERSION:2.0
PRODID:-//Egerton United Reformed Church - ECPv6.15.20//NONSGML v1.0//EN
CALSCALE:GREGORIAN
METHOD:PUBLISH
X-ORIGINAL-URL:https://egertonurc.org.uk
X-WR-CALDESC:Events for Egerton United Reformed Church
REFRESH-INTERVAL;VALUE=DURATION:PT1H
X-Robots-Tag:noindex
X-PUBLISHED-TTL:PT1H
BEGIN:VTIMEZONE
TZID:Europe/London
BEGIN:DAYLIGHT
TZOFFSETFROM:+0000
TZOFFSETTO:+0100
TZNAME:BST
DTSTART:20240331T010000
END:DAYLIGHT
BEGIN:STANDARD
TZOFFSETFROM:+0100
TZOFFSETTO:+0000
TZNAME:GMT
DTSTART:20241027T010000
END:STANDARD
BEGIN:DAYLIGHT
TZOFFSETFROM:+0000
TZOFFSETTO:+0100
TZNAME:BST
DTSTART:20250330T010000
END:DAYLIGHT
BEGIN:STANDARD
TZOFFSETFROM:+0100
TZOFFSETTO:+0000
TZNAME:GMT
DTSTART:20251026T010000
END:STANDARD
BEGIN:DAYLIGHT
TZOFFSETFROM:+0000
TZOFFSETTO:+0100
TZNAME:BST
DTSTART:20260329T010000
END:DAYLIGHT
BEGIN:STANDARD
TZOFFSETFROM:+0100
TZOFFSETTO:+0000
TZNAME:GMT
DTSTART:20261025T010000
END:STANDARD
END:VTIMEZONE
BEGIN:VEVENT
DTSTART;TZID=Europe/London:20250603T190000
DTEND;TZID=Europe/London:20250603T210000
DTSTAMP:20260420T020523
CREATED:20250505T193144Z
LAST-MODIFIED:20250525T193546Z
UID:9095-1748977200-1748984400@egertonurc.org.uk
SUMMARY:Bible Discussion
DESCRIPTION:The Bible Discussion Group will meet again on Tuesday 3rd June starting at 7pm led by Rev Barnabas Shin
URL:https://egertonurc.org.uk/event/bible-discussion-2/
LOCATION:Egerton URC\, Blackburn Road\, Egerton\, Bolton\, United Kingdom
END:VEVENT
BEGIN:VEVENT
DTSTART;TZID=Europe/London:20250617T190000
DTEND;TZID=Europe/London:20250617T203000
DTSTAMP:20260420T020523
CREATED:20250530T193631Z
LAST-MODIFIED:20250615T152355Z
UID:9183-1750186800-1750192200@egertonurc.org.uk
SUMMARY:Handbell Group
DESCRIPTION:First Handbell Practise Tuesday 17th June 7-8.30 pm
URL:https://egertonurc.org.uk/event/handbell-group/
LOCATION:Egerton URC\, Blackburn Road\, Egerton\, Bolton\, United Kingdom
END:VEVENT
BEGIN:VEVENT
DTSTART;TZID=Europe/London:20250619T193000
DTEND;TZID=Europe/London:20250619T203000
DTSTAMP:20260420T020523
CREATED:20240117T141939Z
LAST-MODIFIED:20250520T195132Z
UID:7792-1750361400-1750365000@egertonurc.org.uk
SUMMARY:Susan Cain Sound Therapy
DESCRIPTION:Susan Cain Sound Bath usually first & third Thursday every month  7.30-8.30pm at Egerton URC Session cost £12 \nI would love for you to join us for a profound restoration of mind and body. Come and experience deep relaxation like never before. Feel free to message or call me to book your session \nBooking essential 07762 327116\nsusancainsound@gmail.com\n\nhttps://www.facebook.com/SusanCainSound
URL:https://egertonurc.org.uk/event/susan-cain-sound-therapy-3/
LOCATION:Egerton URC\, Blackburn Road\, Egerton\, Bolton\, United Kingdom
END:VEVENT
BEGIN:VEVENT
DTSTART;TZID=Europe/London:20250620T190000
DTEND;TZID=Europe/London:20250620T210000
DTSTAMP:20260420T020523
CREATED:20250515T112748Z
LAST-MODIFIED:20250615T152643Z
UID:9132-1750446000-1750453200@egertonurc.org.uk
SUMMARY:Quiz Night
DESCRIPTION:Quiz Night Friday 20th June starting at 7 pm. Pasty Supper with Tea or Coffee included Tickets £10 available from Doreen
URL:https://egertonurc.org.uk/event/quiz-night/
LOCATION:Egerton URC\, Blackburn Road\, Egerton\, Bolton\, United Kingdom
END:VEVENT
BEGIN:VEVENT
DTSTART;TZID=Europe/London:20250629T110000
DTEND;TZID=Europe/London:20250629T113000
DTSTAMP:20260420T020523
CREATED:20250615T151728Z
LAST-MODIFIED:20250615T151728Z
UID:9238-1751194800-1751196600@egertonurc.org.uk
SUMMARY:Church Meeting 29th June
DESCRIPTION:There will be a church meeting immediately after the service on 29th June led by Rev Walt Johnson please try to attend if you possibly can
URL:https://egertonurc.org.uk/event/church-meeting-29th-june/
LOCATION:Egerton URC\, Blackburn Road\, Egerton\, Bolton\, United Kingdom
END:VEVENT
END:VCALENDAR