BEGIN:VCALENDAR
VERSION:2.0
PRODID:-//Egerton United Reformed Church - ECPv6.15.20//NONSGML v1.0//EN
CALSCALE:GREGORIAN
METHOD:PUBLISH
X-WR-CALNAME:Egerton United Reformed Church
X-ORIGINAL-URL:https://egertonurc.org.uk
X-WR-CALDESC:Events for Egerton United Reformed Church
REFRESH-INTERVAL;VALUE=DURATION:PT1H
X-Robots-Tag:noindex
X-PUBLISHED-TTL:PT1H
BEGIN:VTIMEZONE
TZID:Europe/London
BEGIN:DAYLIGHT
TZOFFSETFROM:+0000
TZOFFSETTO:+0100
TZNAME:BST
DTSTART:20240331T010000
END:DAYLIGHT
BEGIN:STANDARD
TZOFFSETFROM:+0100
TZOFFSETTO:+0000
TZNAME:GMT
DTSTART:20241027T010000
END:STANDARD
BEGIN:DAYLIGHT
TZOFFSETFROM:+0000
TZOFFSETTO:+0100
TZNAME:BST
DTSTART:20250330T010000
END:DAYLIGHT
BEGIN:STANDARD
TZOFFSETFROM:+0100
TZOFFSETTO:+0000
TZNAME:GMT
DTSTART:20251026T010000
END:STANDARD
BEGIN:DAYLIGHT
TZOFFSETFROM:+0000
TZOFFSETTO:+0100
TZNAME:BST
DTSTART:20260329T010000
END:DAYLIGHT
BEGIN:STANDARD
TZOFFSETFROM:+0100
TZOFFSETTO:+0000
TZNAME:GMT
DTSTART:20261025T010000
END:STANDARD
END:VTIMEZONE
BEGIN:VEVENT
DTSTART;TZID=Europe/London:20250510T120000
DTEND;TZID=Europe/London:20250510T150000
DTSTAMP:20260420T003146
CREATED:20250412T114812Z
LAST-MODIFIED:20250412T114812Z
UID:9030-1746878400-1746889200@egertonurc.org.uk
SUMMARY:Church Booking
DESCRIPTION:The church has been provisionaly booked  on the 10th May between 12 & 3 pm
URL:https://egertonurc.org.uk/event/church-booking/
LOCATION:Egerton URC\, Blackburn Road\, Egerton\, Bolton\, United Kingdom
END:VEVENT
BEGIN:VEVENT
DTSTART;TZID=Europe/London:20250524T113000
DTEND;TZID=Europe/London:20250524T130000
DTSTAMP:20260420T003146
CREATED:20250517T084223Z
LAST-MODIFIED:20250517T084223Z
UID:9135-1748086200-1748091600@egertonurc.org.uk
SUMMARY:Light Saturday Lunch
DESCRIPTION:Light Saturday Lunch comprising a selection of sandwiches cake tea & coffee etc will be served on Saturday 24th May from 11.30 to 1.00 pm.\n\n\nWe look forward to seeing you & remember accompanied kids eat free
URL:https://egertonurc.org.uk/event/light-saturday-lunch/
LOCATION:Egerton URC\, Blackburn Road\, Egerton\, Bolton\, United Kingdom
END:VEVENT
BEGIN:VEVENT
DTSTART;TZID=Europe/London:20250527T190000
DTEND;TZID=Europe/London:20250527T210000
DTSTAMP:20260420T003146
CREATED:20250505T193033Z
LAST-MODIFIED:20250525T193401Z
UID:9093-1748372400-1748379600@egertonurc.org.uk
SUMMARY:Bible Discussion
DESCRIPTION:The Bible Discussion Group will meet again on Tuesday 27th May starting at 7pm led by Rev Barnabas Shin
URL:https://egertonurc.org.uk/event/bible-discussion/
LOCATION:Egerton URC\, Blackburn Road\, Egerton\, Bolton\, United Kingdom
END:VEVENT
END:VCALENDAR