BEGIN:VCALENDAR
VERSION:2.0
PRODID:-//Egerton United Reformed Church - ECPv6.15.20//NONSGML v1.0//EN
CALSCALE:GREGORIAN
METHOD:PUBLISH
X-ORIGINAL-URL:https://egertonurc.org.uk
X-WR-CALDESC:Events for Egerton United Reformed Church
REFRESH-INTERVAL;VALUE=DURATION:PT1H
X-Robots-Tag:noindex
X-PUBLISHED-TTL:PT1H
BEGIN:VTIMEZONE
TZID:Europe/London
BEGIN:DAYLIGHT
TZOFFSETFROM:+0000
TZOFFSETTO:+0100
TZNAME:BST
DTSTART:20240331T010000
END:DAYLIGHT
BEGIN:STANDARD
TZOFFSETFROM:+0100
TZOFFSETTO:+0000
TZNAME:GMT
DTSTART:20241027T010000
END:STANDARD
BEGIN:DAYLIGHT
TZOFFSETFROM:+0000
TZOFFSETTO:+0100
TZNAME:BST
DTSTART:20250330T010000
END:DAYLIGHT
BEGIN:STANDARD
TZOFFSETFROM:+0100
TZOFFSETTO:+0000
TZNAME:GMT
DTSTART:20251026T010000
END:STANDARD
BEGIN:DAYLIGHT
TZOFFSETFROM:+0000
TZOFFSETTO:+0100
TZNAME:BST
DTSTART:20260329T010000
END:DAYLIGHT
BEGIN:STANDARD
TZOFFSETFROM:+0100
TZOFFSETTO:+0000
TZNAME:GMT
DTSTART:20261025T010000
END:STANDARD
END:VTIMEZONE
BEGIN:VEVENT
DTSTART;TZID=Europe/London:20250201T140000
DTEND;TZID=Europe/London:20250201T160000
DTSTAMP:20260419T185008
CREATED:20250103T130439Z
LAST-MODIFIED:20250129T164245Z
UID:8832-1738418400-1738425600@egertonurc.org.uk
SUMMARY:Catch Group Christian Activities for Children
DESCRIPTION:POSTPONED – MORE INFORMATION WILL FOLLOW \nCatch Group Christian Activities for Children \nSaturday 1st February 2025 2 pm to 4 pm \nDear Parents\, carers and children\, \nWe are really pleased to announce that during 2025 we will be running several Christian activity events for children in our area who are in Years 1-3. We are the Ca†ch group\, which stands for Children’s Activities at Church. We are a spiritual community linked to our local church\, Egerton URC\, and wish to welcome young people and families who wish to develop their relationship with God though a relaxed\, safe and fun environment. Families from all faiths or none are welcome. \nOur first event will be on: \nSaturday   1st February 2025 \nat Egerton United Reform Church on Blackburn Road (next to the yellow speed camera!) BL7 9TB \nat 2-4pm. \nThe session will involve lots of fun activities based around a Christian theme. Our first session is based on the Lunar New Year and light and hope. Parents/carers are welcome to stay the full two hours\, or we ask that if you drop your child off that you can be around for the last 10 mins of the group to share in the celebrations. \nTo express an interest in the February event (we are limited to 25 children)\, or for more information\, please send an email to egertonurc@gmail.com with; \n\nyour name\na telephone number\nyour child’s school and year group\n\nPlease note that we comply with the General Data Protection Regulations (GDPR 2018) and your personal data will be treated as strictly confidential and will only be shared with other members of this group for the purpose of these events. \nA member of Ca†ch will get back to you to answer any queries and if you would like to proceed an application form will be sent to you. The deadline for completed application forms is 24th January 2025 \nAll staff are fully qualified with DBS and there will be a qualified first aider present. Please note only those families who complete the application form and receive confirmation of a place will be accepted. The application form will be forwarded to you once we have your email/contact details. \nWe really look forward to hearing from you. \nGod bless from all at Ca†ch
URL:https://egertonurc.org.uk/event/catch-group-christian-activities-for-children/
LOCATION:Egerton URC\, Blackburn Road\, Egerton\, Bolton\, United Kingdom
END:VEVENT
BEGIN:VEVENT
DTSTART;TZID=Europe/London:20250204T170000
DTEND;TZID=Europe/London:20250204T183000
DTSTAMP:20260419T185008
CREATED:20240207T163203Z
LAST-MODIFIED:20250318T154330Z
UID:7892-1738688400-1738693800@egertonurc.org.uk
SUMMARY:Slimming World
DESCRIPTION:Led by Ian Bunney. Slimming World hold a session at Egerton URC every Tuesday @ 5.00-6.30 PM Tel 07743 499292
URL:https://egertonurc.org.uk/event/slimming-world-22/
LOCATION:Egerton URC\, Blackburn Road\, Egerton\, Bolton\, United Kingdom
END:VEVENT
BEGIN:VEVENT
DTSTART;TZID=Europe/London:20250220T100000
DTEND;TZID=Europe/London:20250220T120000
DTSTAMP:20260419T185008
CREATED:20240411T153838Z
LAST-MODIFIED:20250127T195859Z
UID:8062-1740045600-1740052800@egertonurc.org.uk
SUMMARY:Thursday Club
DESCRIPTION:Coffee Morning every Thursday Morning 10-12am
URL:https://egertonurc.org.uk/event/coffee-morning-13/
LOCATION:Egerton URC\, Blackburn Road\, Egerton\, Bolton\, United Kingdom
END:VEVENT
BEGIN:VEVENT
DTSTART;TZID=Europe/London:20250222T113000
DTEND;TZID=Europe/London:20250222T150000
DTSTAMP:20260419T185008
CREATED:20250214T121502Z
LAST-MODIFIED:20250214T121502Z
UID:8907-1740223800-1740236400@egertonurc.org.uk
SUMMARY:Brunch
DESCRIPTION:Brunch will be provided again on Saturday  22nd February at Egerton URC  from 11.30 -3.00 pm
URL:https://egertonurc.org.uk/event/brunch-2/
LOCATION:Egerton URC\, Blackburn Road\, Egerton\, Bolton\, United Kingdom
END:VEVENT
BEGIN:VEVENT
DTSTART;TZID=Europe/London:20250225T193000
DTEND;TZID=Europe/London:20250225T210000
DTSTAMP:20260419T185008
CREATED:20250122T211230Z
LAST-MODIFIED:20250122T211230Z
UID:8866-1740511800-1740517200@egertonurc.org.uk
SUMMARY:Basic Life Support & Defib Training
DESCRIPTION:Basic life support & defib training led by Dave Crook from Bolton Mountain Rescue Tuesday 25th Feb @7.30 pm
URL:https://egertonurc.org.uk/event/basic-life-support-defib-training/
LOCATION:Egerton URC\, Blackburn Road\, Egerton\, Bolton\, United Kingdom
END:VEVENT
BEGIN:VEVENT
DTSTART;TZID=Europe/London:20250225T193000
DTEND;TZID=Europe/London:20250225T210000
DTSTAMP:20260419T185008
CREATED:20250208T095757Z
LAST-MODIFIED:20250208T100113Z
UID:8894-1740511800-1740517200@egertonurc.org.uk
SUMMARY:Defibrillator Training
DESCRIPTION:Defib Training will be held at church on Tuesday 25th February at 7.30 pm
URL:https://egertonurc.org.uk/event/defibrillator-training/
LOCATION:Egerton URC\, Blackburn Road\, Egerton\, Bolton\, United Kingdom
END:VEVENT
END:VCALENDAR