BEGIN:VCALENDAR
VERSION:2.0
PRODID:-//Egerton United Reformed Church - ECPv6.15.20//NONSGML v1.0//EN
CALSCALE:GREGORIAN
METHOD:PUBLISH
X-ORIGINAL-URL:https://egertonurc.org.uk
X-WR-CALDESC:Events for Egerton United Reformed Church
REFRESH-INTERVAL;VALUE=DURATION:PT1H
X-Robots-Tag:noindex
X-PUBLISHED-TTL:PT1H
BEGIN:VTIMEZONE
TZID:Europe/London
BEGIN:DAYLIGHT
TZOFFSETFROM:+0000
TZOFFSETTO:+0100
TZNAME:BST
DTSTART:20240331T010000
END:DAYLIGHT
BEGIN:STANDARD
TZOFFSETFROM:+0100
TZOFFSETTO:+0000
TZNAME:GMT
DTSTART:20241027T010000
END:STANDARD
BEGIN:DAYLIGHT
TZOFFSETFROM:+0000
TZOFFSETTO:+0100
TZNAME:BST
DTSTART:20250330T010000
END:DAYLIGHT
BEGIN:STANDARD
TZOFFSETFROM:+0100
TZOFFSETTO:+0000
TZNAME:GMT
DTSTART:20251026T010000
END:STANDARD
BEGIN:DAYLIGHT
TZOFFSETFROM:+0000
TZOFFSETTO:+0100
TZNAME:BST
DTSTART:20260329T010000
END:DAYLIGHT
BEGIN:STANDARD
TZOFFSETFROM:+0100
TZOFFSETTO:+0000
TZNAME:GMT
DTSTART:20261025T010000
END:STANDARD
END:VTIMEZONE
BEGIN:VEVENT
DTSTART;TZID=Europe/London:20250107T170000
DTEND;TZID=Europe/London:20250107T183000
DTSTAMP:20260419T172051
CREATED:20240117T135631Z
LAST-MODIFIED:20250318T154457Z
UID:7784-1736269200-1736274600@egertonurc.org.uk
SUMMARY:Slimming World
DESCRIPTION:Led by Ian Bunney. Slimming World hold a session at Egerton URC every Tuesday @ 5.00-6.30 PM Tel 07743 499292
URL:https://egertonurc.org.uk/event/slimming-world-16/
LOCATION:Egerton URC\, Blackburn Road\, Egerton\, Bolton\, United Kingdom
END:VEVENT
BEGIN:VEVENT
DTSTART;TZID=Europe/London:20250125T080000
DTEND;TZID=Europe/London:20250125T170000
DTSTAMP:20260419T172051
CREATED:20250112T131552Z
LAST-MODIFIED:20250119T124409Z
UID:8853-1737792000-1737824400@egertonurc.org.uk
SUMMARY:No Brunch
DESCRIPTION:UPDATE \nUnfortunately we are sorry to say there won’t be any Brunch at Egerton URC this month
URL:https://egertonurc.org.uk/event/brunch/
LOCATION:Egerton URC\, Blackburn Road\, Egerton\, Bolton\, United Kingdom
END:VEVENT
END:VCALENDAR