BEGIN:VCALENDAR
VERSION:2.0
PRODID:-//Egerton United Reformed Church - ECPv6.15.20//NONSGML v1.0//EN
CALSCALE:GREGORIAN
METHOD:PUBLISH
X-ORIGINAL-URL:https://egertonurc.org.uk
X-WR-CALDESC:Events for Egerton United Reformed Church
REFRESH-INTERVAL;VALUE=DURATION:PT1H
X-Robots-Tag:noindex
X-PUBLISHED-TTL:PT1H
BEGIN:VTIMEZONE
TZID:Europe/London
BEGIN:DAYLIGHT
TZOFFSETFROM:+0000
TZOFFSETTO:+0100
TZNAME:BST
DTSTART:20230326T010000
END:DAYLIGHT
BEGIN:STANDARD
TZOFFSETFROM:+0100
TZOFFSETTO:+0000
TZNAME:GMT
DTSTART:20231029T010000
END:STANDARD
BEGIN:DAYLIGHT
TZOFFSETFROM:+0000
TZOFFSETTO:+0100
TZNAME:BST
DTSTART:20240331T010000
END:DAYLIGHT
BEGIN:STANDARD
TZOFFSETFROM:+0100
TZOFFSETTO:+0000
TZNAME:GMT
DTSTART:20241027T010000
END:STANDARD
BEGIN:DAYLIGHT
TZOFFSETFROM:+0000
TZOFFSETTO:+0100
TZNAME:BST
DTSTART:20250330T010000
END:DAYLIGHT
BEGIN:STANDARD
TZOFFSETFROM:+0100
TZOFFSETTO:+0000
TZNAME:GMT
DTSTART:20251026T010000
END:STANDARD
END:VTIMEZONE
BEGIN:VEVENT
DTSTART;TZID=Europe/London:20241104T140000
DTEND;TZID=Europe/London:20241104T153000
DTSTAMP:20260419T202255
CREATED:20241027T123842Z
LAST-MODIFIED:20241027T123842Z
UID:8632-1730728800-1730734200@egertonurc.org.uk
SUMMARY:Monday Club
DESCRIPTION:Every Monday 2.00pm\, this is a friendship group\, chat games crafts biscuits & occasionally cake!
URL:https://egertonurc.org.uk/event/monday-club-5/
LOCATION:Egerton URC\, Blackburn Road\, Egerton\, Bolton\, United Kingdom
END:VEVENT
BEGIN:VEVENT
DTSTART;TZID=Europe/London:20241110T100000
DTEND;TZID=Europe/London:20241110T113000
DTSTAMP:20260419T202255
CREATED:20241016T123757Z
LAST-MODIFIED:20241016T123757Z
UID:8614-1731232800-1731238200@egertonurc.org.uk
SUMMARY:Remembrance Day Service
DESCRIPTION:Come & join us for our Remembrance Service  at Egerton URC. This weeks service will be led by Adrian Yapp \nService starts at 10 am-11am \nhttps://egertonurc.org.uk \n 
URL:https://egertonurc.org.uk/event/remembrance-day-service/
LOCATION:Egerton URC\, Blackburn Road\, Egerton\, Bolton\, United Kingdom
END:VEVENT
BEGIN:VEVENT
DTSTART;TZID=Europe/London:20241113T183000
DTEND;TZID=Europe/London:20241113T220000
DTSTAMP:20260419T202255
CREATED:20230528T213822Z
LAST-MODIFIED:20241027T131022Z
UID:7454-1731522600-1731535200@egertonurc.org.uk
SUMMARY:Egerton URC Film Club
DESCRIPTION:We have our very own film club that meet on the 2nd & 4th Wednesday each month There is no charge for watching the film. Refreshments are available during the […]
URL:https://egertonurc.org.uk/event/egerton-urc-film-club-4/
LOCATION:Egerton URC\, Blackburn Road\, Egerton\, Bolton\, United Kingdom
END:VEVENT
BEGIN:VEVENT
DTSTART;TZID=Europe/London:20241115T183000
DTEND;TZID=Europe/London:20241115T203000
DTSTAMP:20260419T202255
CREATED:20241027T134052Z
LAST-MODIFIED:20241027T134052Z
UID:8643-1731695400-1731702600@egertonurc.org.uk
SUMMARY:Christmas Evening Market
DESCRIPTION:Christmas Evening Market at Egerton URC Friday 15th November from 6.30 to 8.30 pm at Egerton URC.\nMake a note in your diary
URL:https://egertonurc.org.uk/event/christmas-evening-market/
LOCATION:Egerton URC\, Blackburn Road\, Egerton\, Bolton\, United Kingdom
END:VEVENT
BEGIN:VEVENT
DTSTART;TZID=Europe/London:20241119T090000
DTEND;TZID=Europe/London:20241119T183000
DTSTAMP:20260419T202255
CREATED:20231022T183023Z
LAST-MODIFIED:20241027T125417Z
UID:7644-1732006800-1732041000@egertonurc.org.uk
SUMMARY:Slimming World
DESCRIPTION:Slimming World hold 3 sessions at Egerton URC every week Group Days and times are Tuesday Morning: Commences 9.00 AM Tuesday Evening: Commences 5.00 PM & 6.30 PM.
URL:https://egertonurc.org.uk/event/slimming-worls/
LOCATION:Bank Top URC\, Bank Top URC\, Ashworth Lane Bolton BL1 8RX\, United Kingdom
END:VEVENT
BEGIN:VEVENT
DTSTART;TZID=Europe/London:20241126T090000
DTEND;TZID=Europe/London:20241126T183000
DTSTAMP:20260419T202255
CREATED:20231022T182940Z
LAST-MODIFIED:20241027T125728Z
UID:7642-1732611600-1732645800@egertonurc.org.uk
SUMMARY:Slimming World
DESCRIPTION:Slimming World hold 3 sessions at Egerton URC every week Group Days and times are Tuesday Morning: Commences 9.00 AM Tuesday Evening: Commences 5.00 PM & 6.30 PM.
URL:https://egertonurc.org.uk/event/slimming-world-15/
LOCATION:Egerton URC\, Blackburn Road\, Egerton\, Bolton\, United Kingdom
END:VEVENT
BEGIN:VEVENT
DTSTART;TZID=Europe/London:20241126T190000
DTEND;TZID=Europe/London:20241126T200000
DTSTAMP:20260419T202255
CREATED:20241125T104727Z
LAST-MODIFIED:20241125T104818Z
UID:8714-1732647600-1732651200@egertonurc.org.uk
SUMMARY:Bell Practice
DESCRIPTION:The first hand Bell Practice will take place on tuesday 26th Novemnber at 7 pm Egerton URC  You are welcome to come & join us \nRevd Barnabas Shin
URL:https://egertonurc.org.uk/event/bell-practise/
LOCATION:Egerton URC\, Blackburn Road\, Egerton\, Bolton\, United Kingdom
END:VEVENT
BEGIN:VEVENT
DTSTART;TZID=Europe/London:20241127T130000
DTEND;TZID=Europe/London:20241127T150000
DTSTAMP:20260419T202255
CREATED:20241125T105222Z
LAST-MODIFIED:20241125T105222Z
UID:8718-1732712400-1732719600@egertonurc.org.uk
SUMMARY:Intermediate Safeguarding Session
DESCRIPTION:An Intermediate Safeguarding Session will take place at Egerton URC on Wednesday 27th November from 1 pm to 3 pm led by Yvette from the Synod Safeguarding Office
URL:https://egertonurc.org.uk/event/intermediate-safeguarding-session/
LOCATION:Egerton URC\, Blackburn Road\, Egerton\, Bolton\, United Kingdom
END:VEVENT
BEGIN:VEVENT
DTSTART;TZID=Europe/London:20241128T113000
DTEND;TZID=Europe/London:20241128T153000
DTSTAMP:20260419T202255
CREATED:20241028T164657Z
LAST-MODIFIED:20241125T103402Z
UID:8650-1732793400-1732807800@egertonurc.org.uk
SUMMARY:Christmas Wreath Making with Lunch at Egerton URC
DESCRIPTION:Thursday 28th November 2024 Organised by Bromley Cross Women’s Institute\, from 11.30 to 3.30 approx. \nGreenery & baubles provided but please bring a medium size potato & a Christmas pick or silk\, plastic & Christmas flowers \nSecateurs & gloves may be handy if you have them & a piece of foil \nCost £15 \nFor details contact Sue Topping suetopping@yahoo.co.uk 01204 308496 07535 522964 or kennedymarj@yahoo.co.uk 07896 904987
URL:https://egertonurc.org.uk/event/christmas-wreath-making-with-lunch-at-egerton-ur-c/
LOCATION:Egerton URC\, Blackburn Road\, Egerton\, Bolton\, United Kingdom
END:VEVENT
END:VCALENDAR