BEGIN:VCALENDAR
VERSION:2.0
PRODID:-//Egerton United Reformed Church - ECPv6.15.20//NONSGML v1.0//EN
CALSCALE:GREGORIAN
METHOD:PUBLISH
X-ORIGINAL-URL:https://egertonurc.org.uk
X-WR-CALDESC:Events for Egerton United Reformed Church
REFRESH-INTERVAL;VALUE=DURATION:PT1H
X-Robots-Tag:noindex
X-PUBLISHED-TTL:PT1H
BEGIN:VTIMEZONE
TZID:Europe/London
BEGIN:DAYLIGHT
TZOFFSETFROM:+0000
TZOFFSETTO:+0100
TZNAME:BST
DTSTART:20230326T010000
END:DAYLIGHT
BEGIN:STANDARD
TZOFFSETFROM:+0100
TZOFFSETTO:+0000
TZNAME:GMT
DTSTART:20231029T010000
END:STANDARD
BEGIN:DAYLIGHT
TZOFFSETFROM:+0000
TZOFFSETTO:+0100
TZNAME:BST
DTSTART:20240331T010000
END:DAYLIGHT
BEGIN:STANDARD
TZOFFSETFROM:+0100
TZOFFSETTO:+0000
TZNAME:GMT
DTSTART:20241027T010000
END:STANDARD
BEGIN:DAYLIGHT
TZOFFSETFROM:+0000
TZOFFSETTO:+0100
TZNAME:BST
DTSTART:20250330T010000
END:DAYLIGHT
BEGIN:STANDARD
TZOFFSETFROM:+0100
TZOFFSETTO:+0000
TZNAME:GMT
DTSTART:20251026T010000
END:STANDARD
END:VTIMEZONE
BEGIN:VEVENT
DTSTART;TZID=Europe/London:20240404T100000
DTEND;TZID=Europe/London:20240404T120000
DTSTAMP:20260420T090254
CREATED:20240401T155550Z
LAST-MODIFIED:20240401T155605Z
UID:7989-1712224800-1712232000@egertonurc.org.uk
SUMMARY:Coffee Morning
DESCRIPTION:Coffee Morning every Thursday Morning 10-12am
URL:https://egertonurc.org.uk/event/coffee-morning/
LOCATION:Egerton URC\, Blackburn Road\, Egerton\, Bolton\, United Kingdom
END:VEVENT
BEGIN:VEVENT
DTSTART;TZID=Europe/London:20240405T130000
DTEND;TZID=Europe/London:20240405T143000
DTSTAMP:20260420T090254
CREATED:20230528T204714Z
LAST-MODIFIED:20240411T152113Z
UID:7422-1712322000-1712327400@egertonurc.org.uk
SUMMARY:Strength & Balance Group
DESCRIPTION:Bolton age UK will be holding a strength & Balance class  1.00 to 2.30pm plus post class tea & coffee
URL:https://egertonurc.org.uk/event/exercise-group/
LOCATION:Egerton URC\, Blackburn Road\, Egerton\, Bolton\, United Kingdom
END:VEVENT
BEGIN:VEVENT
DTSTART;TZID=Europe/London:20240411T190000
DTEND;TZID=Europe/London:20240411T213000
DTSTAMP:20260420T090254
CREATED:20240401T130554Z
LAST-MODIFIED:20240401T130554Z
UID:7960-1712862000-1712871000@egertonurc.org.uk
SUMMARY:Friends Of Turton Tower Spring Fashion Show
DESCRIPTION:Friends Of Turton Tower – Button Boutique Spring Fashion Show 7pm – 9.30pm\n\n\nGet ready to strut your stuff at the Button Boutique Spring Fashion Show – where style\, buttons\, and spring vibes collide!\nBy Friends Of Turton Tower.
URL:https://egertonurc.org.uk/event/friends-of-turton-tower-spring-fashion-show/
LOCATION:Egerton URC\, Blackburn Road\, Egerton\, Bolton\, United Kingdom
END:VEVENT
BEGIN:VEVENT
DTSTART;TZID=Europe/London:20240412T110000
DTEND;TZID=Europe/London:20240412T140000
DTSTAMP:20260420T090254
CREATED:20240401T132255Z
LAST-MODIFIED:20240401T132255Z
UID:7963-1712919600-1712930400@egertonurc.org.uk
SUMMARY:Older Persons Fair
DESCRIPTION:Come and join us for our older persons interactive Fair on 12th April at Egerton United Reform Church \nLots of stalls with information\, demonstrations and more \nRefreshments available to purchase by Gerry’s \nCrystal Life Planning\, Walfinch Bolton/Bury\, Financial Planning\, Pet Care Services\, Active Workshops\, Holistic Services & more \nLive Demonstrations\, Local Companies Showcasing\, Information about local Groups\, Planning ahead for your future. \nFree to attend \nThis event has the backing of our MP Mark Logan
URL:https://egertonurc.org.uk/event/older-persons-fair/
LOCATION:Egerton URC\, Blackburn Road\, Egerton\, Bolton\, United Kingdom
END:VEVENT
END:VCALENDAR