BEGIN:VCALENDAR
VERSION:2.0
PRODID:-//Egerton United Reformed Church - ECPv6.15.20//NONSGML v1.0//EN
CALSCALE:GREGORIAN
METHOD:PUBLISH
X-WR-CALNAME:Egerton United Reformed Church
X-ORIGINAL-URL:https://egertonurc.org.uk
X-WR-CALDESC:Events for Egerton United Reformed Church
REFRESH-INTERVAL;VALUE=DURATION:PT1H
X-Robots-Tag:noindex
X-PUBLISHED-TTL:PT1H
BEGIN:VTIMEZONE
TZID:Europe/London
BEGIN:DAYLIGHT
TZOFFSETFROM:+0000
TZOFFSETTO:+0100
TZNAME:BST
DTSTART:20230326T010000
END:DAYLIGHT
BEGIN:STANDARD
TZOFFSETFROM:+0100
TZOFFSETTO:+0000
TZNAME:GMT
DTSTART:20231029T010000
END:STANDARD
BEGIN:DAYLIGHT
TZOFFSETFROM:+0000
TZOFFSETTO:+0100
TZNAME:BST
DTSTART:20240331T010000
END:DAYLIGHT
BEGIN:STANDARD
TZOFFSETFROM:+0100
TZOFFSETTO:+0000
TZNAME:GMT
DTSTART:20241027T010000
END:STANDARD
BEGIN:DAYLIGHT
TZOFFSETFROM:+0000
TZOFFSETTO:+0100
TZNAME:BST
DTSTART:20250330T010000
END:DAYLIGHT
BEGIN:STANDARD
TZOFFSETFROM:+0100
TZOFFSETTO:+0000
TZNAME:GMT
DTSTART:20251026T010000
END:STANDARD
END:VTIMEZONE
BEGIN:VEVENT
DTSTART;TZID=Europe/London:20240307T100000
DTEND;TZID=Europe/London:20240307T120000
DTSTAMP:20260422T185532
CREATED:20240207T205935Z
LAST-MODIFIED:20240207T205935Z
UID:7927-1709805600-1709812800@egertonurc.org.uk
SUMMARY:Coffee Morning
DESCRIPTION:Coffee Morning every Thursday Morning 10-12am
URL:https://egertonurc.org.uk/event/coffee-morning-9/
LOCATION:Egerton URC\, Blackburn Road\, Egerton\, Bolton\, United Kingdom
END:VEVENT
BEGIN:VEVENT
DTSTART;TZID=Europe/London:20240313T180000
DTEND;TZID=Europe/London:20240313T213000
DTSTAMP:20260422T185532
CREATED:20240207T161935Z
LAST-MODIFIED:20240207T161935Z
UID:7880-1710352800-1710365400@egertonurc.org.uk
SUMMARY:Egerton URC Film Club
DESCRIPTION:Film nights are held on the 2nd & 4th Wednesday every month starting at @6.30pm
URL:https://egertonurc.org.uk/event/egerton-urc-film-club-12/
LOCATION:Egerton URC\, Blackburn Road\, Egerton\, Bolton\, United Kingdom
END:VEVENT
BEGIN:VEVENT
DTSTART;TZID=Europe/London:20240317T113000
DTEND;TZID=Europe/London:20240317T140000
DTSTAMP:20260422T185532
CREATED:20240304T141841Z
LAST-MODIFIED:20240304T141841Z
UID:7950-1710675000-1710684000@egertonurc.org.uk
SUMMARY:Basic Safeguarding
DESCRIPTION:Bank Top Church will be doing an introduction to basic safeguarding after their service on the 17th March.  Subject to space members of Egerton URC have been invited to attend
URL:https://egertonurc.org.uk/event/basic-safeguarding/
LOCATION:Bank Top URC\, Bank Top URC\, Ashworth Lane Bolton BL1 8RX\, United Kingdom
END:VEVENT
BEGIN:VEVENT
DTSTART;TZID=Europe/London:20240322T130000
DTEND;TZID=Europe/London:20240322T143000
DTSTAMP:20260422T185532
CREATED:20240411T152736Z
LAST-MODIFIED:20241016T121816Z
UID:8044-1711112400-1711117800@egertonurc.org.uk
SUMMARY:Strength & Balance Class
DESCRIPTION:Strength and Balance Led by Niall Bradley from Age Concern Fridays from 1pm to 2.30pm plus post class tea & coffee \nContact Niall on N07535 641932  or Age Uk on 01204 328411
URL:https://egertonurc.org.uk/event/8044/
END:VEVENT
END:VCALENDAR