BEGIN:VCALENDAR
VERSION:2.0
PRODID:-//Egerton United Reformed Church - ECPv6.15.20//NONSGML v1.0//EN
CALSCALE:GREGORIAN
METHOD:PUBLISH
X-WR-CALNAME:Egerton United Reformed Church
X-ORIGINAL-URL:https://egertonurc.org.uk
X-WR-CALDESC:Events for Egerton United Reformed Church
REFRESH-INTERVAL;VALUE=DURATION:PT1H
X-Robots-Tag:noindex
X-PUBLISHED-TTL:PT1H
BEGIN:VTIMEZONE
TZID:Europe/London
BEGIN:DAYLIGHT
TZOFFSETFROM:+0000
TZOFFSETTO:+0100
TZNAME:BST
DTSTART:20220327T010000
END:DAYLIGHT
BEGIN:STANDARD
TZOFFSETFROM:+0100
TZOFFSETTO:+0000
TZNAME:GMT
DTSTART:20221030T010000
END:STANDARD
BEGIN:DAYLIGHT
TZOFFSETFROM:+0000
TZOFFSETTO:+0100
TZNAME:BST
DTSTART:20230326T010000
END:DAYLIGHT
BEGIN:STANDARD
TZOFFSETFROM:+0100
TZOFFSETTO:+0000
TZNAME:GMT
DTSTART:20231029T010000
END:STANDARD
BEGIN:DAYLIGHT
TZOFFSETFROM:+0000
TZOFFSETTO:+0100
TZNAME:BST
DTSTART:20240331T010000
END:DAYLIGHT
BEGIN:STANDARD
TZOFFSETFROM:+0100
TZOFFSETTO:+0000
TZNAME:GMT
DTSTART:20241027T010000
END:STANDARD
END:VTIMEZONE
BEGIN:VEVENT
DTSTART;TZID=Europe/London:20231203T150000
DTEND;TZID=Europe/London:20231203T170000
DTSTAMP:20260420T180156
CREATED:20231022T155912Z
LAST-MODIFIED:20231031T213123Z
UID:7578-1701615600-1701622800@egertonurc.org.uk
SUMMARY:Eden Singers - Light of The World
DESCRIPTION:Light of The World\,  a new modern musical adaption of the Christmas Story performed by The Eden Singers at The United Reformed Church\, Blackburn Road\, Egerton\, Bolton. BL7 9QE on Sunday 3rd December at 3 pm start\nTickets in advance only £7 Each including refreshments\nContact Nigel on  Anderson on 07500 899138 or you can email Stuart Bromley  sbromley@ntlworld.com or any of the social committee for tickets/more information
URL:https://egertonurc.org.uk/event/eden-singers/
LOCATION:Egerton URC\, Blackburn Road\, Egerton\, Bolton\, United Kingdom
ATTACH;FMTTYPE=image/jpeg:https://egertonurc.org.uk/wp-content/uploads/2023/10/IMG_20231031_193804-scaled.jpg
END:VEVENT
END:VCALENDAR