BEGIN:VCALENDAR
VERSION:2.0
PRODID:-//Egerton United Reformed Church - ECPv6.15.20//NONSGML v1.0//EN
CALSCALE:GREGORIAN
METHOD:PUBLISH
X-ORIGINAL-URL:https://egertonurc.org.uk
X-WR-CALDESC:Events for Egerton United Reformed Church
REFRESH-INTERVAL;VALUE=DURATION:PT1H
X-Robots-Tag:noindex
X-PUBLISHED-TTL:PT1H
BEGIN:VTIMEZONE
TZID:Europe/London
BEGIN:DAYLIGHT
TZOFFSETFROM:+0000
TZOFFSETTO:+0100
TZNAME:BST
DTSTART:20240331T010000
END:DAYLIGHT
BEGIN:STANDARD
TZOFFSETFROM:+0100
TZOFFSETTO:+0000
TZNAME:GMT
DTSTART:20241027T010000
END:STANDARD
BEGIN:DAYLIGHT
TZOFFSETFROM:+0000
TZOFFSETTO:+0100
TZNAME:BST
DTSTART:20250330T010000
END:DAYLIGHT
BEGIN:STANDARD
TZOFFSETFROM:+0100
TZOFFSETTO:+0000
TZNAME:GMT
DTSTART:20251026T010000
END:STANDARD
BEGIN:DAYLIGHT
TZOFFSETFROM:+0000
TZOFFSETTO:+0100
TZNAME:BST
DTSTART:20260329T010000
END:DAYLIGHT
BEGIN:STANDARD
TZOFFSETFROM:+0100
TZOFFSETTO:+0000
TZNAME:GMT
DTSTART:20261025T010000
END:STANDARD
END:VTIMEZONE
BEGIN:VEVENT
DTSTART;TZID=Europe/London:20250225T193000
DTEND;TZID=Europe/London:20250225T210000
DTSTAMP:20260419T202240
CREATED:20250122T211230Z
LAST-MODIFIED:20250122T211230Z
UID:8866-1740511800-1740517200@egertonurc.org.uk
SUMMARY:Basic Life Support & Defib Training
DESCRIPTION:Basic life support & defib training led by Dave Crook from Bolton Mountain Rescue Tuesday 25th Feb @7.30 pm
URL:https://egertonurc.org.uk/event/basic-life-support-defib-training/
LOCATION:Egerton URC\, Blackburn Road\, Egerton\, Bolton\, United Kingdom
END:VEVENT
BEGIN:VEVENT
DTSTART;TZID=Europe/London:20250225T193000
DTEND;TZID=Europe/London:20250225T210000
DTSTAMP:20260419T202240
CREATED:20250208T095757Z
LAST-MODIFIED:20250208T100113Z
UID:8894-1740511800-1740517200@egertonurc.org.uk
SUMMARY:Defibrillator Training
DESCRIPTION:Defib Training will be held at church on Tuesday 25th February at 7.30 pm
URL:https://egertonurc.org.uk/event/defibrillator-training/
LOCATION:Egerton URC\, Blackburn Road\, Egerton\, Bolton\, United Kingdom
END:VEVENT
END:VCALENDAR