BEGIN:VCALENDAR
VERSION:2.0
PRODID:-//Egerton United Reformed Church - ECPv6.15.20//NONSGML v1.0//EN
CALSCALE:GREGORIAN
METHOD:PUBLISH
X-ORIGINAL-URL:https://egertonurc.org.uk
X-WR-CALDESC:Events for Egerton United Reformed Church
REFRESH-INTERVAL;VALUE=DURATION:PT1H
X-Robots-Tag:noindex
X-PUBLISHED-TTL:PT1H
BEGIN:VTIMEZONE
TZID:Europe/London
BEGIN:DAYLIGHT
TZOFFSETFROM:+0000
TZOFFSETTO:+0100
TZNAME:BST
DTSTART:20230326T010000
END:DAYLIGHT
BEGIN:STANDARD
TZOFFSETFROM:+0100
TZOFFSETTO:+0000
TZNAME:GMT
DTSTART:20231029T010000
END:STANDARD
BEGIN:DAYLIGHT
TZOFFSETFROM:+0000
TZOFFSETTO:+0100
TZNAME:BST
DTSTART:20240331T010000
END:DAYLIGHT
BEGIN:STANDARD
TZOFFSETFROM:+0100
TZOFFSETTO:+0000
TZNAME:GMT
DTSTART:20241027T010000
END:STANDARD
BEGIN:DAYLIGHT
TZOFFSETFROM:+0000
TZOFFSETTO:+0100
TZNAME:BST
DTSTART:20250330T010000
END:DAYLIGHT
BEGIN:STANDARD
TZOFFSETFROM:+0100
TZOFFSETTO:+0000
TZNAME:GMT
DTSTART:20251026T010000
END:STANDARD
END:VTIMEZONE
BEGIN:VEVENT
DTSTART;TZID=Europe/London:20241218T190000
DTEND;TZID=Europe/London:20241218T210000
DTSTAMP:20260419T202138
CREATED:20241201T133533Z
LAST-MODIFIED:20241201T133701Z
UID:8731-1734548400-1734555600@egertonurc.org.uk
SUMMARY:Hand Bell Practice
DESCRIPTION:Message From Barnabas Hand Bell Practice on Wednesday th 18th December at 7 pm
URL:https://egertonurc.org.uk/event/habd-bell-practice-2/
LOCATION:Egerton URC\, Blackburn Road\, Egerton\, Bolton\, United Kingdom
END:VEVENT
BEGIN:VEVENT
DTSTART;TZID=Europe/London:20241218T193000
DTEND;TZID=Europe/London:20241218T213000
DTSTAMP:20260419T202138
CREATED:20241215T091329Z
LAST-MODIFIED:20241215T091816Z
UID:8749-1734550200-1734557400@egertonurc.org.uk
SUMMARY:Blue Xmas Service
DESCRIPTION:Blue Xmas Service at St Andrew ans St George URC Wednesday 18 Decemeber 19.30 -21.30 \nA Blue Christmas (also called the Longest Night) in the Western Christian tradition is a day in the Advent season marking the longest night of the year. On this day\, some churches in Western Christian denominations hold a church service that honours people that have lost loved ones and are experiencing grief.
URL:https://egertonurc.org.uk/event/blue-xmas-service/
LOCATION:St Ages\, St Georges Road\, Bolton BL1 2BX
END:VEVENT
END:VCALENDAR