BEGIN:VCALENDAR
VERSION:2.0
PRODID:-//Egerton United Reformed Church - ECPv6.15.20//NONSGML v1.0//EN
CALSCALE:GREGORIAN
METHOD:PUBLISH
X-WR-CALNAME:Egerton United Reformed Church
X-ORIGINAL-URL:https://egertonurc.org.uk
X-WR-CALDESC:Events for Egerton United Reformed Church
REFRESH-INTERVAL;VALUE=DURATION:PT1H
X-Robots-Tag:noindex
X-PUBLISHED-TTL:PT1H
BEGIN:VTIMEZONE
TZID:Europe/London
BEGIN:DAYLIGHT
TZOFFSETFROM:+0000
TZOFFSETTO:+0100
TZNAME:BST
DTSTART:20230326T010000
END:DAYLIGHT
BEGIN:STANDARD
TZOFFSETFROM:+0100
TZOFFSETTO:+0000
TZNAME:GMT
DTSTART:20231029T010000
END:STANDARD
BEGIN:DAYLIGHT
TZOFFSETFROM:+0000
TZOFFSETTO:+0100
TZNAME:BST
DTSTART:20240331T010000
END:DAYLIGHT
BEGIN:STANDARD
TZOFFSETFROM:+0100
TZOFFSETTO:+0000
TZNAME:GMT
DTSTART:20241027T010000
END:STANDARD
BEGIN:DAYLIGHT
TZOFFSETFROM:+0000
TZOFFSETTO:+0100
TZNAME:BST
DTSTART:20250330T010000
END:DAYLIGHT
BEGIN:STANDARD
TZOFFSETFROM:+0100
TZOFFSETTO:+0000
TZNAME:GMT
DTSTART:20251026T010000
END:STANDARD
END:VTIMEZONE
BEGIN:VEVENT
DTSTART;TZID=Europe/London:20241208T100000
DTEND;TZID=Europe/London:20241208T113000
DTSTAMP:20260419T201939
CREATED:20241016T203334Z
LAST-MODIFIED:20241201T134604Z
UID:8622-1733652000-1733657400@egertonurc.org.uk
SUMMARY:Sunday Service
DESCRIPTION:Come & join us for Sunday Service at Egerton URC. This weeks service will be led by Rev Mark Cowling \nService starts at 10 am-11am Egerton URC \nHome Page Egerton United Reformed Church (egertonurc.org.uk)
URL:https://egertonurc.org.uk/event/sunday-service-13/
LOCATION:Egerton URC\, Blackburn Road\, Egerton\, Bolton\, United Kingdom
END:VEVENT
BEGIN:VEVENT
DTSTART;TZID=Europe/London:20241208T143000
DTEND;TZID=Europe/London:20241208T160000
DTSTAMP:20260419T201939
CREATED:20241125T105947Z
LAST-MODIFIED:20241125T105947Z
UID:8720-1733668200-1733673600@egertonurc.org.uk
SUMMARY:Coffee & Carols 8th December
DESCRIPTION:After Church on the 8th December at 2.30pm we will be meeting for Coffee & Carols as some will remember we practised several years ago. Please bring a verse or short story which we will have between the Carols in order to give the organist time to recover \nRoma
URL:https://egertonurc.org.uk/event/coffee-carols-8th-december/
LOCATION:Egerton URC\, Blackburn Road\, Egerton\, Bolton\, United Kingdom
END:VEVENT
END:VCALENDAR