BEGIN:VCALENDAR
VERSION:2.0
PRODID:-//Egerton United Reformed Church - ECPv6.15.20//NONSGML v1.0//EN
CALSCALE:GREGORIAN
METHOD:PUBLISH
X-WR-CALNAME:Egerton United Reformed Church
X-ORIGINAL-URL:https://egertonurc.org.uk
X-WR-CALDESC:Events for Egerton United Reformed Church
REFRESH-INTERVAL;VALUE=DURATION:PT1H
X-Robots-Tag:noindex
X-PUBLISHED-TTL:PT1H
BEGIN:VTIMEZONE
TZID:Europe/London
BEGIN:DAYLIGHT
TZOFFSETFROM:+0000
TZOFFSETTO:+0100
TZNAME:BST
DTSTART:20230326T010000
END:DAYLIGHT
BEGIN:STANDARD
TZOFFSETFROM:+0100
TZOFFSETTO:+0000
TZNAME:GMT
DTSTART:20231029T010000
END:STANDARD
BEGIN:DAYLIGHT
TZOFFSETFROM:+0000
TZOFFSETTO:+0100
TZNAME:BST
DTSTART:20240331T010000
END:DAYLIGHT
BEGIN:STANDARD
TZOFFSETFROM:+0100
TZOFFSETTO:+0000
TZNAME:GMT
DTSTART:20241027T010000
END:STANDARD
BEGIN:DAYLIGHT
TZOFFSETFROM:+0000
TZOFFSETTO:+0100
TZNAME:BST
DTSTART:20250330T010000
END:DAYLIGHT
BEGIN:STANDARD
TZOFFSETFROM:+0100
TZOFFSETTO:+0000
TZNAME:GMT
DTSTART:20251026T010000
END:STANDARD
END:VTIMEZONE
BEGIN:VEVENT
DTSTART;TZID=Europe/London:20240922T100000
DTEND;TZID=Europe/London:20240922T110000
DTSTAMP:20260420T004544
CREATED:20240728T201411Z
LAST-MODIFIED:20260404T094923Z
UID:8273-1726999200-1727002800@egertonurc.org.uk
SUMMARY:Sunday Service
DESCRIPTION:Come & join us for Sunday Service at Egerton URC. This week will be Harvest service be led by Rev Barnabas Shin \nService starts at 10 am-11am \nWeb Site https://egertonurc.org.uk/ \nSocial Media https://www.facebook.com/groups/1818970312288347
URL:https://egertonurc.org.uk/event/sunday-service-4/
END:VEVENT
BEGIN:VEVENT
DTSTART;TZID=Europe/London:20240922T100000
DTEND;TZID=Europe/London:20240922T113000
DTSTAMP:20260420T004544
CREATED:20240903T140457Z
LAST-MODIFIED:20240903T140457Z
UID:8375-1726999200-1727004600@egertonurc.org.uk
SUMMARY:Harvest
DESCRIPTION:Just to let you know that on Sunday 22nd September we will be holding the Harvest service led by Reverend Barnabas Shin followed by the Church Meeting chaired by Reverend Shin. Take care\, Roma \n 
URL:https://egertonurc.org.uk/event/harvest/
LOCATION:Egerton URC\, Blackburn Road\, Egerton\, Bolton\, United Kingdom
END:VEVENT
END:VCALENDAR