BEGIN:VCALENDAR
VERSION:2.0
PRODID:-//Egerton United Reformed Church - ECPv6.15.20//NONSGML v1.0//EN
CALSCALE:GREGORIAN
METHOD:PUBLISH
X-WR-CALNAME:Egerton United Reformed Church
X-ORIGINAL-URL:https://egertonurc.org.uk
X-WR-CALDESC:Events for Egerton United Reformed Church
REFRESH-INTERVAL;VALUE=DURATION:PT1H
X-Robots-Tag:noindex
X-PUBLISHED-TTL:PT1H
BEGIN:VTIMEZONE
TZID:Europe/London
BEGIN:DAYLIGHT
TZOFFSETFROM:+0000
TZOFFSETTO:+0100
TZNAME:BST
DTSTART:20230326T010000
END:DAYLIGHT
BEGIN:STANDARD
TZOFFSETFROM:+0100
TZOFFSETTO:+0000
TZNAME:GMT
DTSTART:20231029T010000
END:STANDARD
BEGIN:DAYLIGHT
TZOFFSETFROM:+0000
TZOFFSETTO:+0100
TZNAME:BST
DTSTART:20240331T010000
END:DAYLIGHT
BEGIN:STANDARD
TZOFFSETFROM:+0100
TZOFFSETTO:+0000
TZNAME:GMT
DTSTART:20241027T010000
END:STANDARD
BEGIN:DAYLIGHT
TZOFFSETFROM:+0000
TZOFFSETTO:+0100
TZNAME:BST
DTSTART:20250330T010000
END:DAYLIGHT
BEGIN:STANDARD
TZOFFSETFROM:+0100
TZOFFSETTO:+0000
TZNAME:GMT
DTSTART:20251026T010000
END:STANDARD
END:VTIMEZONE
BEGIN:VEVENT
DTSTART;TZID=Europe/London:20240201T100000
DTEND;TZID=Europe/London:20240201T120000
DTSTAMP:20260424T135238
CREATED:20240117T191231Z
LAST-MODIFIED:20240117T191336Z
UID:7859-1706781600-1706788800@egertonurc.org.uk
SUMMARY:Coffee Morning
DESCRIPTION:Coffee Morning every Thursday Morning 10-12am
URL:https://egertonurc.org.uk/event/coffee-morning-4/
END:VEVENT
BEGIN:VEVENT
DTSTART;TZID=Europe/London:20240201T193000
DTEND;TZID=Europe/London:20240201T203000
DTSTAMP:20260424T135238
CREATED:20240117T142224Z
LAST-MODIFIED:20240117T150435Z
UID:7796-1706815800-1706819400@egertonurc.org.uk
SUMMARY:Susan Cain Sound Therapy
DESCRIPTION:Susan Cain Sound Bath meets every Thursday 7.30-8.30pm at Egerton URC Session cost £10  I would love for you to join us for a profound restoration of mind and body. Come and experience deep relaxation like never before. Feel free to message or call me to book your session https://www.facebook.com/SusanCainSound
URL:https://egertonurc.org.uk/event/susan-cain-sound-therapy-4/
LOCATION:Egerton URC\, Blackburn Road\, Egerton\, Bolton\, United Kingdom
END:VEVENT
END:VCALENDAR